BEGIN:VCALENDAR
PRODID:-//AT Content Types//AT Event//EN
VERSION:2.0
METHOD:PUBLISH
BEGIN:VEVENT
DTSTAMP:20260419T124605Z
CREATED:20171005T130833Z
UID:ATEvent-b0d2230d9d97b49f3d71e3b4df5e9083
LAST-MODIFIED:20240731T213004Z
SUMMARY:SECR Launch Event
DTSTART:20171109T100000Z
DTEND:20171109T130000Z
DESCRIPTION:To coincide with the publication of this consultation we a
 re holding a launch event which will take place on the morning of Thur
 sday 9 November - at the BEIS Conference Centre\, 1 Victoria Street\, 
 London\, SW1H 0ET.\n Further information will be circulated in due cou
 rse. \n \nRSVP \nTo secure a place please email reporting@beis.gov.uk 
 by Monday 6 November. We ask that members reserve a maximum of two tic
 kets per organisation due to limited seating.
CLASS:PUBLIC
END:VEVENT
END:VCALENDAR
